BEGIN:VCALENDAR
VERSION:2.0
PRODID:-//Tukios.com/
BEGIN:VEVENT
UID:641b20d9-2c09-41be-a362-3778055205de@www.uptonfunerals.com
DTSTAMP:20260421T072554Z
DTSTART:20260509T160000Z
DTEND:20260509T200000Z
SUMMARY:Celebration of Life
DESCRIPTION:
URL:https://www.uptonfunerals.com/obituaries/bernice-fairhurst
LOCATION:Uxbridge VFW 16 Cross Street  Uxbridge MA 01569
GEO:42.0806236;-71.6213705
END:VEVENT
END:VCALENDAR